BEGIN:VCALENDAR
VERSION:2.0
PRODID:-//AA Pharmacy Malaysia - ECPv6.3.5//NONSGML v1.0//EN
CALSCALE:GREGORIAN
METHOD:PUBLISH
X-WR-CALNAME:AA Pharmacy Malaysia
X-ORIGINAL-URL:https://www.corporate.aapharmacy.com.my
X-WR-CALDESC:Events for AA Pharmacy Malaysia
REFRESH-INTERVAL;VALUE=DURATION:PT1H
X-Robots-Tag:noindex
X-PUBLISHED-TTL:PT1H
BEGIN:VTIMEZONE
TZID:Asia/Shanghai
BEGIN:STANDARD
TZOFFSETFROM:+0800
TZOFFSETTO:+0800
TZNAME:CST
DTSTART:20240101T000000
END:STANDARD
END:VTIMEZONE
BEGIN:VEVENT
DTSTART;VALUE=DATE:20240113
DTEND;VALUE=DATE:20240129
DTSTAMP:20260426T053709
CREATED:20240113T044611Z
LAST-MODIFIED:20240113T044611Z
UID:20936-1705104000-1706486399@www.corporate.aapharmacy.com.my
SUMMARY:Grand Opening – [73rd Branch] AA Pharmacy Rimbunan Kepong
DESCRIPTION:New Outlet Opening @ AA Pharmacy Rimbunan Kepong. Good news! We are now open! Check out our amazing Grand Opening deals! \n			\n				\n				\n				\n				\n				\n			\n				\n				\n				\n				\n				\n			\n			\n				\n				\n				\n				\n			\n				\n				\n			\n				\n				\n				\n				\n				\n				\n				\n				\n				\n				\n				\n				\n				\n				\n				\n				\n				\n				AA Pharmacy Rimbunan Kepong Grand Opening Moments
URL:https://www.corporate.aapharmacy.com.my/event/grand-opening-73rd-branch-aa-pharmacy-rimbunan-kepong/
LOCATION:AA Pharmacy Rimbunan Kepong\, No. 140-G\, Jalan Rimbunan Raya\, Laman Rimbunan\, Kepong\, Kuala Lumpur\, 52100\, Malaysia
CATEGORIES:Grand Opening
ATTACH;FMTTYPE=image/jpeg:https://www.corporate.aapharmacy.com.my/wp-content/uploads/2024/01/KRM-AA-Pharmacy-Rimbunan-Kepong-Grand-Opening-Facebook_01.jpg
END:VEVENT
BEGIN:VEVENT
DTSTART;VALUE=DATE:20240113
DTEND;VALUE=DATE:20240129
DTSTAMP:20260426T053709
CREATED:20240113T050623Z
LAST-MODIFIED:20240114T045209Z
UID:20961-1705104000-1706486399@www.corporate.aapharmacy.com.my
SUMMARY:Grand Opening – [71st Branch] AA Pharmacy Rawang
DESCRIPTION:New Outlet Opening @ AA Pharmacy Rawang. Good news! We are now open! Check out our amazing Grand Opening deals! \n			\n				\n				\n				\n				\n				\n			\n				\n				\n				\n				\n				\n			\n			\n				\n				\n				\n				\n			\n				\n				\n			\n				\n				\n				\n				\n				\n				\n				\n				\n				\n				\n				\n				\n				\n				\n				\n				\n				\n				AA Pharmacy Rawang Grand Opening Moments
URL:https://www.corporate.aapharmacy.com.my/event/grand-opening-71st-branch-aa-pharmacy-rawang/
LOCATION:AA Pharmacy Rawang\, No. 39\, Jalan Bandar Rawang 2\, Bandar Baru Rawang\, Rawang\, Selangor\, 48000\, Malaysia
CATEGORIES:Grand Opening
ATTACH;FMTTYPE=image/jpeg:https://www.corporate.aapharmacy.com.my/wp-content/uploads/2024/01/RWG-AA-Pharmacy-Rawang-Grand-Opening-Facebook_01.jpg
END:VEVENT
BEGIN:VEVENT
DTSTART;VALUE=DATE:20240120
DTEND;VALUE=DATE:20240205
DTSTAMP:20260426T053709
CREATED:20240120T052936Z
LAST-MODIFIED:20240120T061622Z
UID:20988-1705708800-1707091199@www.corporate.aapharmacy.com.my
SUMMARY:Grand Opening – [70th Branch] AA Pharmacy Sri Gombak
DESCRIPTION:New Outlet Opening @ AA Pharmacy Sri Gombak. Good news! We are now open! Check out our amazing Grand Opening deals! \n			\n				\n				\n				\n				\n				\n			\n				\n				\n				\n				\n				\n			\n			\n				\n				\n				\n				\n			\n				\n				\n			\n				\n				\n				\n				\n				\n				\n				\n				\n				\n				\n				\n				\n				\n				\n				\n				\n				\n				AA Pharmacy Sri Gombak Grand Opening Moments
URL:https://www.corporate.aapharmacy.com.my/event/grand-opening-70th-branch-aa-pharmacy-sri-gombak/
LOCATION:AA Pharmacy Sri Gombak\, No. 25G\, Jalan SG 1/6\, Taman Sri Gombak\, Batu Caves\, Selangor\, 68100\, Malaysia
CATEGORIES:Grand Opening
ATTACH;FMTTYPE=image/jpeg:https://www.corporate.aapharmacy.com.my/wp-content/uploads/2024/01/GBK-AA-Pharmacy-Sri-Gombak-Grand-Opening-Facebook_01.jpg
END:VEVENT
BEGIN:VEVENT
DTSTART;VALUE=DATE:20240120
DTEND;VALUE=DATE:20240205
DTSTAMP:20260426T053709
CREATED:20240120T055120Z
LAST-MODIFIED:20240121T045658Z
UID:21014-1705708800-1707091199@www.corporate.aapharmacy.com.my
SUMMARY:Grand Opening – [74th Branch] AA Pharmacy Rimbayu
DESCRIPTION:New Outlet Opening @ AA Pharmacy Rimbayu. Good news! We are now open! Check out our amazing Grand Opening deals! \n			\n				\n				\n				\n				\n				\n			\n				\n				\n				\n				\n				\n			\n			\n				\n				\n				\n				\n			\n				\n				\n			\n				\n				\n				\n				\n				\n				\n				\n				\n				\n				\n				\n				\n				\n				\n				\n				\n				\n				AA Pharmacy Rimbayu Grand Opening Moments
URL:https://www.corporate.aapharmacy.com.my/event/grand-opening-74th-branch-aa-pharmacy-rimbayu/
LOCATION:AA Pharmacy Rimbayu\, No. 38-G\, Jalan Flora 1/1\, Bandar Rimbayu\, Blossom Square\, Telok Panglima Garang\, Selangor\, 42500\, Malaysia
CATEGORIES:Grand Opening
ATTACH;FMTTYPE=image/jpeg:https://www.corporate.aapharmacy.com.my/wp-content/uploads/2024/01/RBY-AA-Pharmacy-Rimbayu-Grand-Opening-Facebook_01.jpg
END:VEVENT
END:VCALENDAR