BEGIN:VCALENDAR
VERSION:2.0
PRODID:-//AA Pharmacy Malaysia - ECPv6.3.5//NONSGML v1.0//EN
CALSCALE:GREGORIAN
METHOD:PUBLISH
X-WR-CALNAME:AA Pharmacy Malaysia
X-ORIGINAL-URL:https://www.corporate.aapharmacy.com.my
X-WR-CALDESC:Events for AA Pharmacy Malaysia
REFRESH-INTERVAL;VALUE=DURATION:PT1H
X-Robots-Tag:noindex
X-PUBLISHED-TTL:PT1H
BEGIN:VTIMEZONE
TZID:Asia/Shanghai
BEGIN:STANDARD
TZOFFSETFROM:+0800
TZOFFSETTO:+0800
TZNAME:CST
DTSTART:20240101T000000
END:STANDARD
END:VTIMEZONE
BEGIN:VEVENT
DTSTART;VALUE=DATE:20240504
DTEND;VALUE=DATE:20240520
DTSTAMP:20260420T164243
CREATED:20240504T050954Z
LAST-MODIFIED:20240504T050954Z
UID:21448-1714780800-1716163199@www.corporate.aapharmacy.com.my
SUMMARY:Grand Opening – [76th Branch] AA Pharmacy Setia Taipan
DESCRIPTION:New Outlet Opening @ AA Pharmacy Setia Taipan. Good news! We are now open! Check out our amazing Grand Opening deals! \n			\n				\n				\n				\n				\n				\n			\n				\n				\n				\n				\n				\n			\n			\n				\n				\n				\n				\n			\n				\n				\n			\n				\n				\n				\n				\n				\n				\n				\n				\n				\n				\n				\n				\n				\n				\n				\n				\n				\n				AA Pharmacy Setia Taipan Grand Opening Moments
URL:https://www.corporate.aapharmacy.com.my/event/grand-opening-76th-branch-aa-pharmacy-setia-taipan/
LOCATION:AA Pharmacy Setia Taipan\, No. 8-G\, Jalan Setia Utama AV U13/AV\, Setia Alam\, Shah Alam\, Selangor\, 40170\, Malaysia
CATEGORIES:Grand Opening
ATTACH;FMTTYPE=image/jpeg:https://www.corporate.aapharmacy.com.my/wp-content/uploads/2024/05/STP-AA-Pharmacy-Bukit-Jalil-Grand-Opening-Facebook_01.jpg
END:VEVENT
END:VCALENDAR